Package: lipidr Version: 2.24.0 Command: /home/biocbuild/R/R/bin/R CMD INSTALL lipidr StartedAt: 2025-11-10 21:54:04 -0000 (Mon, 10 Nov 2025) EndedAt: 2025-11-10 21:54:45 -0000 (Mon, 10 Nov 2025) EllapsedTime: 40.6 seconds RetCode: 0 Status: OK