Package: lionessR Version: 1.22.0 Command: rm -rf lionessR.buildbin-libdir && mkdir lionessR.buildbin-libdir && /Users/biocbuild/BBS/utils/build-universal.sh lionessR_1.22.0.tar.gz /Library/Frameworks/R.framework/Resources/bin/R lionessR.buildbin-libdir StartedAt: 2025-04-21 22:40:15 -0400 (Mon, 21 Apr 2025) EndedAt: 2025-04-21 22:40:18 -0400 (Mon, 21 Apr 2025) EllapsedTime: 2.0 seconds RetCode: 0 Status: OK PackageFile: lionessR_1.22.0.tgz PackageFileSize: 3.434 MiB