Package: linkSet Version: 1.0.0 Command: /home/biocbuild/bbs-3.22-bioc/R/bin/R CMD INSTALL linkSet StartedAt: 2025-11-10 15:50:08 -0500 (Mon, 10 Nov 2025) EndedAt: 2025-11-10 15:50:52 -0500 (Mon, 10 Nov 2025) EllapsedTime: 43.7 seconds RetCode: 0 Status: OK