Package: linkSet Version: 1.0.0 Command: /Library/Frameworks/R.framework/Resources/bin/R CMD INSTALL linkSet StartedAt: 2025-11-06 15:22:51 -0500 (Thu, 06 Nov 2025) EndedAt: 2025-11-06 15:23:09 -0500 (Thu, 06 Nov 2025) EllapsedTime: 17.4 seconds RetCode: 0 Status: OK