Package: limpca Version: 1.6.0 Command: /home/biocbuild/bbs-3.22-bioc/R/bin/R CMD INSTALL limpca StartedAt: 2025-11-09 15:22:14 -0500 (Sun, 09 Nov 2025) EndedAt: 2025-11-09 15:22:39 -0500 (Sun, 09 Nov 2025) EllapsedTime: 25.0 seconds RetCode: 0 Status: OK