Package: limpca Version: 1.6.0 Command: /home/biocbuild/bbs-3.22-bioc/R/bin/R CMD build --keep-empty-dirs --no-resave-data --md5 limpca StartedAt: 2025-11-09 18:26:46 -0500 (Sun, 09 Nov 2025) EndedAt: 2025-11-09 18:29:00 -0500 (Sun, 09 Nov 2025) EllapsedTime: 134.2 seconds RetCode: 0 Status: OK PackageFile: limpca_1.6.0.tar.gz PackageFileSize: 4.739 MiB