Package: limpa Version: 1.1.5 Command: chmod a+r limpa -R && F:\biocbuild\bbs-3.22-bioc\R\bin\R.exe CMD build --keep-empty-dirs --no-resave-data limpa StartedAt: 2025-08-14 21:07:11 -0400 (Thu, 14 Aug 2025) EndedAt: 2025-08-14 21:07:36 -0400 (Thu, 14 Aug 2025) EllapsedTime: 25.6 seconds RetCode: 0 Status: OK PackageFile: limpa_1.1.5.tar.gz PackageFileSize: 343.4 KiB