Package: limma Version: 3.66.0 Command: /home/biocbuild/R/R/bin/R CMD INSTALL limma StartedAt: 2025-11-17 21:03:13 -0000 (Mon, 17 Nov 2025) EndedAt: 2025-11-17 21:03:44 -0000 (Mon, 17 Nov 2025) EllapsedTime: 30.2 seconds RetCode: 0 Status: OK