Package: limma Version: 3.66.0 Command: /home/biocbuild/R/R/bin/R CMD build --keep-empty-dirs --no-resave-data limma StartedAt: 2025-11-18 02:40:08 -0000 (Tue, 18 Nov 2025) EndedAt: 2025-11-18 02:40:41 -0000 (Tue, 18 Nov 2025) EllapsedTime: 33.0 seconds RetCode: 0 Status: OK PackageFile: limma_3.66.0.tar.gz PackageFileSize: 2.739 MiB