Package: limma Version: 3.64.3 Command: E:\biocbuild\bbs-3.21-bioc\R\bin\R.exe CMD check --no-multiarch --install=check:limma.install-out.txt --library=E:\biocbuild\bbs-3.21-bioc\R\library --no-vignettes --timings limma_3.64.3.tar.gz StartedAt: 2025-08-15 03:35:14 -0400 (Fri, 15 Aug 2025) EndedAt: 2025-08-15 03:37:33 -0400 (Fri, 15 Aug 2025) EllapsedTime: 139.1 seconds RetCode: 0 Status: OK CheckDir: limma.Rcheck Warnings: 0