Package: limma Version: 3.64.3 Command: rm -rf limma.buildbin-libdir && mkdir limma.buildbin-libdir && E:\biocbuild\bbs-3.21-bioc\R\bin\R.exe CMD INSTALL --build --library=limma.buildbin-libdir limma_3.64.3.tar.gz StartedAt: 2025-08-15 09:35:30 -0400 (Fri, 15 Aug 2025) EndedAt: 2025-08-15 09:37:14 -0400 (Fri, 15 Aug 2025) EllapsedTime: 104.3 seconds RetCode: 0 Status: OK PackageFile: limma_3.64.3.zip PackageFileSize: 3.018 MiB