Package: limma Version: 3.64.3 Command: /Library/Frameworks/R.framework/Resources/bin/R CMD INSTALL limma StartedAt: 2025-10-02 15:09:21 -0400 (Thu, 02 Oct 2025) EndedAt: 2025-10-02 15:09:39 -0400 (Thu, 02 Oct 2025) EllapsedTime: 17.5 seconds RetCode: 0 Status: OK