Package: limma Version: 3.64.3 Command: /Library/Frameworks/R.framework/Resources/bin/R CMD build --keep-empty-dirs --no-resave-data limma StartedAt: 2025-10-03 03:06:44 -0400 (Fri, 03 Oct 2025) EndedAt: 2025-10-03 03:07:18 -0400 (Fri, 03 Oct 2025) EllapsedTime: 34.4 seconds RetCode: 0 Status: OK PackageFile: limma_3.64.3.tar.gz PackageFileSize: 2.715 MiB