Package: levi Version: 1.26.0 Command: /Library/Frameworks/R.framework/Resources/bin/R CMD check --install=check:levi.install-out.txt --library=/Library/Frameworks/R.framework/Resources/library --no-vignettes --timings levi_1.26.0.tar.gz StartedAt: 2025-04-21 20:03:15 -0400 (Mon, 21 Apr 2025) EndedAt: 2025-04-21 20:03:52 -0400 (Mon, 21 Apr 2025) EllapsedTime: 36.5 seconds RetCode: 0 Status: WARNINGS CheckDir: levi.Rcheck Warnings: 1