Package: levi Version: 1.26.0 Command: /Library/Frameworks/R.framework/Resources/bin/R CMD INSTALL levi StartedAt: 2025-10-13 15:29:11 -0400 (Mon, 13 Oct 2025) EndedAt: 2025-10-13 15:29:29 -0400 (Mon, 13 Oct 2025) EllapsedTime: 18.2 seconds RetCode: 0 Status: OK