Package: levi Version: 1.26.0 Command: /Library/Frameworks/R.framework/Resources/bin/R CMD build --keep-empty-dirs --no-resave-data levi StartedAt: 2025-10-14 03:07:34 -0400 (Tue, 14 Oct 2025) EndedAt: 2025-10-14 03:10:44 -0400 (Tue, 14 Oct 2025) EllapsedTime: 189.7 seconds RetCode: 0 Status: OK PackageFile: levi_1.26.0.tar.gz PackageFileSize: 2.782 MiB