Package: levi Version: 1.26.0 Command: rm -rf levi.buildbin-libdir && mkdir levi.buildbin-libdir && /Users/biocbuild/BBS/utils/build-universal.sh levi_1.26.0.tar.gz /Library/Frameworks/R.framework/Resources/bin/R levi.buildbin-libdir StartedAt: 2025-10-15 19:04:31 -0400 (Wed, 15 Oct 2025) EndedAt: 2025-10-15 19:04:53 -0400 (Wed, 15 Oct 2025) EllapsedTime: 21.5 seconds RetCode: 0 Status: OK PackageFile: levi_1.26.0.tgz PackageFileSize: 2.353 MiB