Package: les Version: 1.59.0 Command: /home/biocbuild/R/R/bin/R CMD INSTALL les StartedAt: 2025-10-23 20:20:01 -0000 (Thu, 23 Oct 2025) EndedAt: 2025-10-23 20:20:41 -0000 (Thu, 23 Oct 2025) EllapsedTime: 39.9 seconds RetCode: 0 Status: OK