Package: les Version: 1.60.0 Command: /home/biocbuild/R/R/bin/R CMD check --install=check:les.install-out.txt --library=/home/biocbuild/R/R/site-library --no-vignettes --timings les_1.60.0.tar.gz StartedAt: 2025-11-18 11:18:40 -0000 (Tue, 18 Nov 2025) EndedAt: 2025-11-18 11:19:39 -0000 (Tue, 18 Nov 2025) EllapsedTime: 59.1 seconds RetCode: 0 Status: OK CheckDir: les.Rcheck Warnings: 0