Package: les Version: 1.59.0 Command: rm -rf les.buildbin-libdir && mkdir les.buildbin-libdir && F:\biocbuild\bbs-3.22-bioc\R\bin\R.exe CMD INSTALL --build --library=les.buildbin-libdir les_1.59.0.tar.gz StartedAt: 2025-08-15 10:34:45 -0400 (Fri, 15 Aug 2025) EndedAt: 2025-08-15 10:34:58 -0400 (Fri, 15 Aug 2025) EllapsedTime: 13.5 seconds RetCode: 0 Status: OK PackageFile: les_1.59.0.zip PackageFileSize: 570.5 KiB