Package: les Version: 1.60.0 Command: /home/biocbuild/bbs-3.22-bioc/R/bin/R CMD check --install=check:les.install-out.txt --library=/home/biocbuild/bbs-3.22-bioc/R/site-library --timings les_1.60.0.tar.gz StartedAt: 2025-11-07 00:52:50 -0500 (Fri, 07 Nov 2025) EndedAt: 2025-11-07 00:53:41 -0500 (Fri, 07 Nov 2025) EllapsedTime: 51.1 seconds RetCode: 0 Status: OK CheckDir: les.Rcheck Warnings: 0