Package: les Version: 1.60.0 Command: rm -rf les.buildbin-libdir && mkdir les.buildbin-libdir && /Users/biocbuild/BBS/utils/build-universal.sh les_1.60.0.tar.gz /Library/Frameworks/R.framework/Resources/bin/R les.buildbin-libdir StartedAt: 2025-11-09 23:12:52 -0500 (Sun, 09 Nov 2025) EndedAt: 2025-11-09 23:12:54 -0500 (Sun, 09 Nov 2025) EllapsedTime: 2.0 seconds RetCode: 0 Status: OK PackageFile: les_1.60.0.tgz PackageFileSize: 673.9 KiB