Package: lemur Version: 1.6.1 Command: /Library/Frameworks/R.framework/Resources/bin/R CMD INSTALL lemur StartedAt: 2025-10-13 16:06:31 -0400 (Mon, 13 Oct 2025) EndedAt: 2025-10-13 16:07:54 -0400 (Mon, 13 Oct 2025) EllapsedTime: 83.3 seconds RetCode: 0 Status: OK