Package: lemur Version: 1.6.1 Command: rm -rf lemur.buildbin-libdir && mkdir lemur.buildbin-libdir && /Users/biocbuild/BBS/utils/build-universal.sh lemur_1.6.1.tar.gz /Library/Frameworks/R.framework/Resources/bin/R lemur.buildbin-libdir StartedAt: 2025-10-14 13:51:41 -0400 (Tue, 14 Oct 2025) EndedAt: 2025-10-14 13:54:00 -0400 (Tue, 14 Oct 2025) EllapsedTime: 138.2 seconds RetCode: 0 Status: OK PackageFile: lemur_1.6.1.tgz PackageFileSize: 3.834 MiB