Package: lemur Version: 1.6.0 Command: rm -rf lemur.buildbin-libdir && mkdir lemur.buildbin-libdir && /Users/biocbuild/BBS/utils/build-universal.sh lemur_1.6.0.tar.gz /Library/Frameworks/R.framework/Resources/bin/R lemur.buildbin-libdir StartedAt: 2025-04-22 00:52:08 -0400 (Tue, 22 Apr 2025) EndedAt: 2025-04-22 00:53:02 -0400 (Tue, 22 Apr 2025) EllapsedTime: 53.6 seconds RetCode: 0 Status: OK PackageFile: lemur_1.6.0.tgz PackageFileSize: 3.842 MiB