Package: lefser Version: 1.20.0 Command: /home/biocbuild/bbs-3.22-bioc/R/bin/R CMD INSTALL lefser StartedAt: 2025-11-06 16:00:00 -0500 (Thu, 06 Nov 2025) EndedAt: 2025-11-06 16:00:26 -0500 (Thu, 06 Nov 2025) EllapsedTime: 26.7 seconds RetCode: 0 Status: OK