Package: lapmix Version: 1.74.0 Command: /home/biocbuild/bbs-3.21-bioc/R/bin/R CMD INSTALL lapmix StartedAt: 2025-10-15 15:11:26 -0400 (Wed, 15 Oct 2025) EndedAt: 2025-10-15 15:11:28 -0400 (Wed, 15 Oct 2025) EllapsedTime: 1.2 seconds RetCode: 1 Status: ERROR