Package: lapmix Version: 1.74.0 Command: /home/biocbuild/bbs-3.21-bioc/R/bin/R CMD build --keep-empty-dirs --no-resave-data lapmix StartedAt: 2025-10-15 18:12:20 -0400 (Wed, 15 Oct 2025) EndedAt: 2025-10-15 18:12:21 -0400 (Wed, 15 Oct 2025) EllapsedTime: 1.0 seconds RetCode: 1 Status: ERROR PackageFile: None PackageFileSize: NA