Package: kmcut Version: 1.2.0 Command: /Library/Frameworks/R.framework/Resources/bin/R CMD INSTALL kmcut StartedAt: 2025-09-29 16:36:47 -0400 (Mon, 29 Sep 2025) EndedAt: 2025-09-29 16:37:13 -0400 (Mon, 29 Sep 2025) EllapsedTime: 26.0 seconds RetCode: 0 Status: OK