Package: kmcut Version: 1.2.0 Command: rm -rf kmcut.buildbin-libdir && mkdir kmcut.buildbin-libdir && /Users/biocbuild/BBS/utils/build-universal.sh kmcut_1.2.0.tar.gz /Library/Frameworks/R.framework/Resources/bin/R kmcut.buildbin-libdir StartedAt: 2025-10-01 19:02:02 -0400 (Wed, 01 Oct 2025) EndedAt: 2025-10-01 19:02:33 -0400 (Wed, 01 Oct 2025) EllapsedTime: 30.4 seconds RetCode: 0 Status: OK PackageFile: kmcut_1.2.0.tgz PackageFileSize: 1.279 MiB