Package: kissDE Version: 1.28.0 Command: chmod a+r kissDE -R && E:\biocbuild\bbs-3.21-bioc\R\bin\R.exe CMD build --keep-empty-dirs --no-resave-data kissDE StartedAt: 2025-08-14 20:01:11 -0400 (Thu, 14 Aug 2025) EndedAt: 2025-08-14 20:03:47 -0400 (Thu, 14 Aug 2025) EllapsedTime: 156.2 seconds RetCode: 0 Status: OK PackageFile: kissDE_1.28.0.tar.gz PackageFileSize: 859.7 KiB