Package: kissDE Version: 1.30.0 Command: /home/biocbuild/bbs-3.22-bioc/R/bin/R CMD INSTALL kissDE StartedAt: 2025-11-20 16:29:39 -0500 (Thu, 20 Nov 2025) EndedAt: 2025-11-20 16:30:24 -0500 (Thu, 20 Nov 2025) EllapsedTime: 44.9 seconds RetCode: 0 Status: OK