Package: kebabs Version: 1.42.0 Command: rm -rf kebabs.buildbin-libdir && mkdir kebabs.buildbin-libdir && E:\biocbuild\bbs-3.21-bioc\R\bin\R.exe CMD INSTALL --build --library=kebabs.buildbin-libdir kebabs_1.42.0.tar.gz StartedAt: 2025-08-15 09:34:21 -0400 (Fri, 15 Aug 2025) EndedAt: 2025-08-15 09:37:34 -0400 (Fri, 15 Aug 2025) EllapsedTime: 192.6 seconds RetCode: 0 Status: OK PackageFile: kebabs_1.42.0.zip PackageFileSize: 3.928 MiB