Package: kebabs Version: 1.42.0 Command: /Library/Frameworks/R.framework/Resources/bin/R CMD INSTALL kebabs StartedAt: 2025-04-21 15:15:22 -0400 (Mon, 21 Apr 2025) EndedAt: 2025-04-21 15:17:10 -0400 (Mon, 21 Apr 2025) EllapsedTime: 107.6 seconds RetCode: 0 Status: OK