Package: kebabs Version: 1.42.0 Command: /Library/Frameworks/R.framework/Resources/bin/R CMD check --install=check:kebabs.install-out.txt --library=/Library/Frameworks/R.framework/Resources/library --no-vignettes --timings kebabs_1.42.0.tar.gz StartedAt: 2025-10-15 01:41:58 -0400 (Wed, 15 Oct 2025) EndedAt: 2025-10-15 01:45:23 -0400 (Wed, 15 Oct 2025) EllapsedTime: 204.4 seconds RetCode: 0 Status: OK CheckDir: kebabs.Rcheck Warnings: 0