Package: kebabs Version: 1.42.0 Command: /Library/Frameworks/R.framework/Resources/bin/R CMD build --keep-empty-dirs --no-resave-data kebabs StartedAt: 2025-10-14 03:01:36 -0400 (Tue, 14 Oct 2025) EndedAt: 2025-10-14 03:06:57 -0400 (Tue, 14 Oct 2025) EllapsedTime: 320.9 seconds RetCode: 0 Status: OK PackageFile: kebabs_1.42.0.tar.gz PackageFileSize: 2.259 MiB