Package: jazzPanda Version: 1.0.0 Command: /Library/Frameworks/R.framework/Resources/bin/R CMD build --keep-empty-dirs --no-resave-data jazzPanda StartedAt: 2025-04-21 16:45:26 -0400 (Mon, 21 Apr 2025) EndedAt: 2025-04-21 16:46:50 -0400 (Mon, 21 Apr 2025) EllapsedTime: 84.0 seconds RetCode: 0 Status: OK PackageFile: jazzPanda_1.0.0.tar.gz PackageFileSize: 4.456 MiB