Package: jazzPanda Version: 1.0.0 Command: rm -rf jazzPanda.buildbin-libdir && mkdir jazzPanda.buildbin-libdir && /Users/biocbuild/BBS/utils/build-universal.sh jazzPanda_1.0.0.tar.gz /Library/Frameworks/R.framework/Resources/bin/R jazzPanda.buildbin-libdir StartedAt: 2025-04-21 22:39:48 -0400 (Mon, 21 Apr 2025) EndedAt: 2025-04-21 22:40:02 -0400 (Mon, 21 Apr 2025) EllapsedTime: 14.4 seconds RetCode: 0 Status: OK PackageFile: jazzPanda_1.0.0.tgz PackageFileSize: 4.54 MiB