Package: ivygapSE Version: 1.32.0 Command: /home/biocbuild/bbs-3.22-bioc/R/bin/R CMD INSTALL ivygapSE StartedAt: 2025-11-06 15:20:07 -0500 (Thu, 06 Nov 2025) EndedAt: 2025-11-06 15:20:33 -0500 (Thu, 06 Nov 2025) EllapsedTime: 25.5 seconds RetCode: 0 Status: OK