Package: ivygapSE Version: 1.32.0 Command: /home/biocbuild/bbs-3.22-bioc/R/bin/R CMD build --keep-empty-dirs --no-resave-data --md5 ivygapSE StartedAt: 2025-11-06 18:19:19 -0500 (Thu, 06 Nov 2025) EndedAt: 2025-11-06 18:21:26 -0500 (Thu, 06 Nov 2025) EllapsedTime: 127.1 seconds RetCode: 0 Status: OK PackageFile: ivygapSE_1.32.0.tar.gz PackageFileSize: 15.44 MiB