Package: ivygapSE Version: 1.30.0 Command: /home/biocbuild/bbs-3.21-bioc/R/bin/R CMD check --install=check:ivygapSE.install-out.txt --library=/home/biocbuild/bbs-3.21-bioc/R/site-library --timings ivygapSE_1.30.0.tar.gz StartedAt: 2025-10-16 00:26:27 -0400 (Thu, 16 Oct 2025) EndedAt: 2025-10-16 00:31:41 -0400 (Thu, 16 Oct 2025) EllapsedTime: 314.4 seconds RetCode: 0 Status: OK CheckDir: ivygapSE.Rcheck Warnings: 0