Package: ivygapSE Version: 1.30.0 Command: /home/biocbuild/bbs-3.21-bioc/R/bin/R CMD build --keep-empty-dirs --no-resave-data ivygapSE StartedAt: 2025-10-15 18:10:19 -0400 (Wed, 15 Oct 2025) EndedAt: 2025-10-15 18:12:28 -0400 (Wed, 15 Oct 2025) EllapsedTime: 128.1 seconds RetCode: 0 Status: OK PackageFile: ivygapSE_1.30.0.tar.gz PackageFileSize: 15.44 MiB