Package: ivygapSE Version: 1.30.0 Command: /Library/Frameworks/R.framework/Resources/bin/R CMD check --install=check:ivygapSE.install-out.txt --library=/Library/Frameworks/R.framework/Resources/library --no-vignettes --timings ivygapSE_1.30.0.tar.gz StartedAt: 2025-04-21 21:29:39 -0400 (Mon, 21 Apr 2025) EndedAt: 2025-04-21 21:33:23 -0400 (Mon, 21 Apr 2025) EllapsedTime: 224.3 seconds RetCode: 0 Status: OK CheckDir: ivygapSE.Rcheck Warnings: 0