Package: ivygapSE Version: 1.30.0 Command: /Library/Frameworks/R.framework/Resources/bin/R CMD check --install=check:ivygapSE.install-out.txt --library=/Library/Frameworks/R.framework/Resources/library --no-vignettes --timings ivygapSE_1.30.0.tar.gz StartedAt: 2025-10-15 01:36:57 -0400 (Wed, 15 Oct 2025) EndedAt: 2025-10-15 01:41:02 -0400 (Wed, 15 Oct 2025) EllapsedTime: 244.9 seconds RetCode: 0 Status: OK CheckDir: ivygapSE.Rcheck Warnings: 0