Package: ivygapSE Version: 1.30.0 Command: rm -rf ivygapSE.buildbin-libdir && mkdir ivygapSE.buildbin-libdir && /Users/biocbuild/BBS/utils/build-universal.sh ivygapSE_1.30.0.tar.gz /Library/Frameworks/R.framework/Resources/bin/R ivygapSE.buildbin-libdir StartedAt: 2025-10-15 19:01:54 -0400 (Wed, 15 Oct 2025) EndedAt: 2025-10-15 19:02:30 -0400 (Wed, 15 Oct 2025) EllapsedTime: 36.2 seconds RetCode: 0 Status: OK PackageFile: ivygapSE_1.30.0.tgz PackageFileSize: 15.38 MiB