Package: iterativeBMAsurv Version: 1.66.0 Command: /Library/Frameworks/R.framework/Resources/bin/R CMD check --install=check:iterativeBMAsurv.install-out.txt --library=/Library/Frameworks/R.framework/Resources/library --no-vignettes --timings iterativeBMAsurv_1.66.0.tar.gz StartedAt: 2025-10-14 05:37:47 -0400 (Tue, 14 Oct 2025) EndedAt: 2025-10-14 05:40:53 -0400 (Tue, 14 Oct 2025) EllapsedTime: 185.6 seconds RetCode: 0 Status: WARNINGS CheckDir: iterativeBMAsurv.Rcheck Warnings: 1