Package: iterativeBMAsurv Version: 1.66.0 Command: /Library/Frameworks/R.framework/Resources/bin/R CMD build --keep-empty-dirs --no-resave-data iterativeBMAsurv StartedAt: 2025-10-13 20:01:23 -0400 (Mon, 13 Oct 2025) EndedAt: 2025-10-13 20:02:13 -0400 (Mon, 13 Oct 2025) EllapsedTime: 50.5 seconds RetCode: 0 Status: OK PackageFile: iterativeBMAsurv_1.66.0.tar.gz PackageFileSize: 196.7 KiB