Package: iterativeBMA Version: 1.68.0 Command: /home/biocbuild/R/R/bin/R CMD check --install=check:iterativeBMA.install-out.txt --library=/home/biocbuild/R/R/site-library --no-vignettes --timings iterativeBMA_1.68.0.tar.gz StartedAt: 2025-11-11 11:04:39 -0000 (Tue, 11 Nov 2025) EndedAt: 2025-11-11 11:05:29 -0000 (Tue, 11 Nov 2025) EllapsedTime: 50.1 seconds RetCode: 0 Status: OK CheckDir: iterativeBMA.Rcheck Warnings: 0