Package: iterativeBMA Version: 1.68.0 Command: /home/biocbuild/bbs-3.22-bioc/R/bin/R CMD build --keep-empty-dirs --no-resave-data --md5 iterativeBMA StartedAt: 2025-11-11 18:24:41 -0500 (Tue, 11 Nov 2025) EndedAt: 2025-11-11 18:24:56 -0500 (Tue, 11 Nov 2025) EllapsedTime: 15.0 seconds RetCode: 0 Status: OK PackageFile: iterativeBMA_1.68.0.tar.gz PackageFileSize: 160.1 KiB