Package: isobar Version: 1.54.0 Command: /home/biocbuild/bbs-3.21-bioc/R/bin/R CMD check --install=check:isobar.install-out.txt --library=/home/biocbuild/bbs-3.21-bioc/R/site-library --timings isobar_1.54.0.tar.gz StartedAt: 2025-10-16 00:24:10 -0400 (Thu, 16 Oct 2025) EndedAt: 2025-10-16 00:28:23 -0400 (Thu, 16 Oct 2025) EllapsedTime: 253.3 seconds RetCode: 0 Status: WARNINGS CheckDir: isobar.Rcheck Warnings: 2